BEGIN:VCALENDAR
VERSION:2.0
PRODID:-//Ateneu - ECPv6.15.20//NONSGML v1.0//EN
CALSCALE:GREGORIAN
METHOD:PUBLISH
X-WR-CALNAME:Ateneu
X-ORIGINAL-URL:https://ateneucoopbll.cat
X-WR-CALDESC:Esdeveniments per Ateneu
REFRESH-INTERVAL;VALUE=DURATION:PT1H
X-Robots-Tag:noindex
X-PUBLISHED-TTL:PT1H
BEGIN:VTIMEZONE
TZID:Europe/Madrid
BEGIN:DAYLIGHT
TZOFFSETFROM:+0100
TZOFFSETTO:+0200
TZNAME:CEST
DTSTART:20250330T010000
END:DAYLIGHT
BEGIN:STANDARD
TZOFFSETFROM:+0200
TZOFFSETTO:+0100
TZNAME:CET
DTSTART:20251026T010000
END:STANDARD
BEGIN:DAYLIGHT
TZOFFSETFROM:+0100
TZOFFSETTO:+0200
TZNAME:CEST
DTSTART:20260329T010000
END:DAYLIGHT
BEGIN:STANDARD
TZOFFSETFROM:+0200
TZOFFSETTO:+0100
TZNAME:CET
DTSTART:20261025T010000
END:STANDARD
BEGIN:DAYLIGHT
TZOFFSETFROM:+0100
TZOFFSETTO:+0200
TZNAME:CEST
DTSTART:20270328T010000
END:DAYLIGHT
BEGIN:STANDARD
TZOFFSETFROM:+0200
TZOFFSETTO:+0100
TZNAME:CET
DTSTART:20271031T010000
END:STANDARD
END:VTIMEZONE
BEGIN:VEVENT
DTSTART;TZID=Europe/Madrid:20260509T113000
DTEND;TZID=Europe/Madrid:20260509T140000
DTSTAMP:20260422T133206
CREATED:20260417T094738Z
LAST-MODIFIED:20260421T081512Z
UID:7460-1778326200-1778335200@ateneucoopbll.cat
SUMMARY:Horts i Arts: 6a edició
DESCRIPTION:6a edició: Horts i Arts\n📅 Data: Dissabte\, 9 de maig de 2026🕦 Hora: D’11.30 h a 14.00 h📍 Lloc: Cal Tudela – El Prat de Llobregat📌 Adreça: Camí de Cal Tet s/n (al costat de la Granja Torres) \n📋 Organitza: Fundació Cassià Just – Cuina Justa \nEn aquesta 6a edició d’Horts i Arts\, Cal Tudela esdevé un espai de trobada entre art\, comunitat i territori\, promovent una mirada creativa sobre l’entorn agrari i el seu valor com a espai de vida. \nLes arts escèniques sortiran dels espais convencionals per integrar-se en el paisatge\, connectant persones i territori a través de l’expressió artística. \nLa jornada es completarà amb propostes gastronòmiques i espais de conversa com a elements de vincle i expressió col·lectiva. A més\, hi haurà un showcooking final i un dinar de germanor.
URL:https://ateneucoopbll.cat/acte/horts-i-arts-6a-edicio/
LOCATION:Cal Tudela\, Camí de cal Tet al costat Granja Torres\, El Prat de Llobregat\, Barcelona\, España
CATEGORIES:MaigCoop2026
ORGANIZER;CN="Fundaci%C3%B3 Cassi%C3%A0 Just - Cuina Justa":MAILTO:info@cuinajusta.com
END:VEVENT
END:VCALENDAR