BEGIN:VCALENDAR
VERSION:2.0
PRODID:-//Ateneu - ECPv6.15.20//NONSGML v1.0//EN
CALSCALE:GREGORIAN
METHOD:PUBLISH
X-WR-CALNAME:Ateneu
X-ORIGINAL-URL:https://ateneucoopbll.cat
X-WR-CALDESC:Esdeveniments per Ateneu
REFRESH-INTERVAL;VALUE=DURATION:PT1H
X-Robots-Tag:noindex
X-PUBLISHED-TTL:PT1H
BEGIN:VTIMEZONE
TZID:Europe/Madrid
BEGIN:DAYLIGHT
TZOFFSETFROM:+0100
TZOFFSETTO:+0200
TZNAME:CEST
DTSTART:20240331T010000
END:DAYLIGHT
BEGIN:STANDARD
TZOFFSETFROM:+0200
TZOFFSETTO:+0100
TZNAME:CET
DTSTART:20241027T010000
END:STANDARD
BEGIN:DAYLIGHT
TZOFFSETFROM:+0100
TZOFFSETTO:+0200
TZNAME:CEST
DTSTART:20250330T010000
END:DAYLIGHT
BEGIN:STANDARD
TZOFFSETFROM:+0200
TZOFFSETTO:+0100
TZNAME:CET
DTSTART:20251026T010000
END:STANDARD
BEGIN:DAYLIGHT
TZOFFSETFROM:+0100
TZOFFSETTO:+0200
TZNAME:CEST
DTSTART:20260329T010000
END:DAYLIGHT
BEGIN:STANDARD
TZOFFSETFROM:+0200
TZOFFSETTO:+0100
TZNAME:CET
DTSTART:20261025T010000
END:STANDARD
END:VTIMEZONE
BEGIN:VEVENT
DTSTART;TZID=Europe/Madrid:20250919T080000
DTEND;TZID=Europe/Madrid:20250919T170000
DTSTAMP:20260422T195825
CREATED:20250703T094025Z
LAST-MODIFIED:20250703T094025Z
UID:6521-1758268800-1758301200@ateneucoopbll.cat
SUMMARY:Fòrum cooperativista
DESCRIPTION:Fòrum cooperativista\nLa formació estratègica del pròxim 19 de setembre va dirigida a cooperativistes de forma presencial a Girona. Organitza: La Federació de Cooperatives de Treball de Catalunya (FCTC) \nDetalls de l’activitat\nData: Divendres\, 19 de setembre \nLloc: Centre Cívic de Sant Narcís\, Girona \nHorari: 8 h – 17 h \nFormat: Presencial
URL:https://ateneucoopbll.cat/acte/forum-cooperativista/
LOCATION:Girona
END:VEVENT
END:VCALENDAR