BEGIN:VCALENDAR
VERSION:2.0
PRODID:-//Ateneu - ECPv6.15.20//NONSGML v1.0//EN
CALSCALE:GREGORIAN
METHOD:PUBLISH
X-WR-CALNAME:Ateneu
X-ORIGINAL-URL:https://ateneucoopbll.cat
X-WR-CALDESC:Esdeveniments per Ateneu
REFRESH-INTERVAL;VALUE=DURATION:PT1H
X-Robots-Tag:noindex
X-PUBLISHED-TTL:PT1H
BEGIN:VTIMEZONE
TZID:Europe/Madrid
BEGIN:DAYLIGHT
TZOFFSETFROM:+0100
TZOFFSETTO:+0200
TZNAME:CEST
DTSTART:20240331T010000
END:DAYLIGHT
BEGIN:STANDARD
TZOFFSETFROM:+0200
TZOFFSETTO:+0100
TZNAME:CET
DTSTART:20241027T010000
END:STANDARD
BEGIN:DAYLIGHT
TZOFFSETFROM:+0100
TZOFFSETTO:+0200
TZNAME:CEST
DTSTART:20250330T010000
END:DAYLIGHT
BEGIN:STANDARD
TZOFFSETFROM:+0200
TZOFFSETTO:+0100
TZNAME:CET
DTSTART:20251026T010000
END:STANDARD
BEGIN:DAYLIGHT
TZOFFSETFROM:+0100
TZOFFSETTO:+0200
TZNAME:CEST
DTSTART:20260329T010000
END:DAYLIGHT
BEGIN:STANDARD
TZOFFSETFROM:+0200
TZOFFSETTO:+0100
TZNAME:CET
DTSTART:20261025T010000
END:STANDARD
END:VTIMEZONE
BEGIN:VEVENT
DTSTART;TZID=Europe/Madrid:20250425T100000
DTEND;TZID=Europe/Madrid:20250425T120000
DTSTAMP:20260424T134628
CREATED:20250407T083323Z
LAST-MODIFIED:20250407T083323Z
UID:5858-1745575200-1745582400@ateneucoopbll.cat
SUMMARY:FORMACIÓ VIRTUAL: LA IMPORTÀNCIA DE LA DOCUMENTACIÓ SOCIAL
DESCRIPTION:Formació virtual: La importància de la documentació social\nAquesta formació s’adreça a persones membres dels consells rectors de les cooperatives i a aquelles persones amb responsabilitats societàries a la cooperativa. \nA la sessió aprendreu a: \n\nConèixer la documentació social que cal tenir a la cooperativa.\nEntendre la importància de mantenir correctament la documentació social.\nVisualitzar el circuit de producció i processament dels acords socials.\nAprendre a emplenar i presentar la diversa documentació.\n\nQuins són els continguts del programa?\n\nEls llibres obligatoris\nQuè han de contenir els diferents llibres?\nCom es legalitzen?\nCom funciona el circuit de reunions i producció d’acords en una cooperativa\nEls comptes anuals\nTerminis i requisits de presentació\n\nDetalls de l’activitat\n📅 Data: 25 d’abril⏰ Horari: 10:00 – 12:00 h🎯 Format: En línia\nProcés d’inscripció\n📅 Termini d’inscripció: Fins al 25 d’abril💻 Com inscriure’s? Ompliu el formulari disponible a la web del programa.📌 Més informació i inscripcions aquí:👉 www.cooperativestreball.coop/acompanyem/aprenacreixer \nAquest programa és una oportunitat única per enfortir la teva cooperativa\, créixer de manera estratègica i adaptar-te als nous reptes del sector! 
URL:https://ateneucoopbll.cat/acte/formacio-virtual-la-importancia-de-la-documentacio-social/
CATEGORIES:Formacions
ATTACH;FMTTYPE=image/jpeg:https://ateneucoopbll.cat/wp-content/uploads/2025/03/1a-trobada-anual-del-Grup-de-Turisme-1.jpg
END:VEVENT
END:VCALENDAR