BEGIN:VCALENDAR
VERSION:2.0
PRODID:-//Ateneu - ECPv6.15.20//NONSGML v1.0//EN
CALSCALE:GREGORIAN
METHOD:PUBLISH
X-WR-CALNAME:Ateneu
X-ORIGINAL-URL:https://ateneucoopbll.cat
X-WR-CALDESC:Esdeveniments per Ateneu
REFRESH-INTERVAL;VALUE=DURATION:PT1H
X-Robots-Tag:noindex
X-PUBLISHED-TTL:PT1H
BEGIN:VTIMEZONE
TZID:Europe/Madrid
BEGIN:DAYLIGHT
TZOFFSETFROM:+0100
TZOFFSETTO:+0200
TZNAME:CEST
DTSTART:20240331T010000
END:DAYLIGHT
BEGIN:STANDARD
TZOFFSETFROM:+0200
TZOFFSETTO:+0100
TZNAME:CET
DTSTART:20241027T010000
END:STANDARD
BEGIN:DAYLIGHT
TZOFFSETFROM:+0100
TZOFFSETTO:+0200
TZNAME:CEST
DTSTART:20250330T010000
END:DAYLIGHT
BEGIN:STANDARD
TZOFFSETFROM:+0200
TZOFFSETTO:+0100
TZNAME:CET
DTSTART:20251026T010000
END:STANDARD
BEGIN:DAYLIGHT
TZOFFSETFROM:+0100
TZOFFSETTO:+0200
TZNAME:CEST
DTSTART:20260329T010000
END:DAYLIGHT
BEGIN:STANDARD
TZOFFSETFROM:+0200
TZOFFSETTO:+0100
TZNAME:CET
DTSTART:20261025T010000
END:STANDARD
END:VTIMEZONE
BEGIN:VEVENT
DTSTART;TZID=Europe/Madrid:20250524T180000
DTEND;TZID=Europe/Madrid:20250524T193000
DTSTAMP:20260424T103450
CREATED:20250508T083451Z
LAST-MODIFIED:20250521T153834Z
UID:6183-1748109600-1748115000@ateneucoopbll.cat
SUMMARY:Fira de l’Economia Social i Cooperativa del Baix Llobregat
DESCRIPTION:Fira de l’Economia Social i Cooperativa del Baix Llobregat\nEl dissabte 24 de maig amb la presència de 56 empreses i entitats d’economia social i cooperatives de la comarca del Baix Llobregat de molts sectors d’activitat\, de l’alimentació al transport\, de les telecomunicacions a l’habitatge…. L’objectiu de la Fira és donar a conèixer a tothom de la comarca del Baix Llobregat que hi ha una altra economia que arriba a tots els àmbits del consum. \nDetalls de l’activitat\nData: 24 de maig \nHorari: 17 h – 21 h \nLloc: El Prat de Llobregat \nEnllaç: https://serveis.ateneucoopbll.cat/program/maig-cooperatiu-2025
URL:https://ateneucoopbll.cat/acte/fira-de-leconomia-social-i-cooperativa-del-baix-llobregat-4/
ATTACH;FMTTYPE=image/jpeg:https://ateneucoopbll.cat/wp-content/uploads/2025/05/64_MaigCoop25_bnrFESC_IG_Post_A-1.jpg
END:VEVENT
END:VCALENDAR