BEGIN:VCALENDAR
VERSION:2.0
PRODID:-//Ateneu - ECPv6.15.20//NONSGML v1.0//EN
CALSCALE:GREGORIAN
METHOD:PUBLISH
X-WR-CALNAME:Ateneu
X-ORIGINAL-URL:https://ateneucoopbll.cat
X-WR-CALDESC:Esdeveniments per Ateneu
REFRESH-INTERVAL;VALUE=DURATION:PT1H
X-Robots-Tag:noindex
X-PUBLISHED-TTL:PT1H
BEGIN:VTIMEZONE
TZID:Europe/Madrid
BEGIN:DAYLIGHT
TZOFFSETFROM:+0100
TZOFFSETTO:+0200
TZNAME:CEST
DTSTART:20250330T010000
END:DAYLIGHT
BEGIN:STANDARD
TZOFFSETFROM:+0200
TZOFFSETTO:+0100
TZNAME:CET
DTSTART:20251026T010000
END:STANDARD
BEGIN:DAYLIGHT
TZOFFSETFROM:+0100
TZOFFSETTO:+0200
TZNAME:CEST
DTSTART:20260329T010000
END:DAYLIGHT
BEGIN:STANDARD
TZOFFSETFROM:+0200
TZOFFSETTO:+0100
TZNAME:CET
DTSTART:20261025T010000
END:STANDARD
BEGIN:DAYLIGHT
TZOFFSETFROM:+0100
TZOFFSETTO:+0200
TZNAME:CEST
DTSTART:20270328T010000
END:DAYLIGHT
BEGIN:STANDARD
TZOFFSETFROM:+0200
TZOFFSETTO:+0100
TZNAME:CET
DTSTART:20271031T010000
END:STANDARD
END:VTIMEZONE
BEGIN:VEVENT
DTSTART;TZID=Europe/Madrid:20260523T110000
DTEND;TZID=Europe/Madrid:20260523T110000
DTSTAMP:20260422T163155
CREATED:20260421T085522Z
LAST-MODIFIED:20260421T085536Z
UID:7517-1779534000-1779534000@ateneucoopbll.cat
SUMMARY:Festa del Cooperativisme
DESCRIPTION:Festa del Cooperativisme\n📅 Data: Dissabte\, 23 de maig de 2026🕒 Horari: a partir de les 11.00 h📍 Lloc: Plaça de Ramon Roigé i Badia📌 Adreça: Plaça de Ramon Roigé i Badia – El Prat de Llobregat \n📋 Organitza: COV Cooperativa Obrera de Viviendas SCCL \nLa Festa del Cooperativisme és una jornada oberta a la ciutadania pensada per promoure la convivència\, la participació i els valors del cooperativisme. \nDurant el matí hi haurà activitats infantils i un mercadet d’artesania a la plaça Ramon Roigé i Badia. La jornada també comptarà amb l’actuació dels Covgrossos i una paella per a les persones sòcies\, amb tiquet previ. \nA la tarda\, la festa es clourà amb un ball obert a tothom amb el Duo Valparaíso\, posant punt final a una jornada festiva i participativa adreçada a totes les edats. \nL’esdeveniment és presencial i no requereix inscripció prèvia. \nA més\, les persones sòcies de la COV podran recollir els tiquets de la paella a partir del 5 de maig a la COV\, presentant el seu DNI.
URL:https://ateneucoopbll.cat/acte/festa-del-cooperativisme-2/
LOCATION:Plaça de Ramon Roigé i Badia\, Plaça de Ramon Roigé i Badia\, El Prat de Llobregat\, Barcelona\, 08820\, España
CATEGORIES:MaigCoop2026
ORGANIZER;CN="COV":MAILTO:cov@cov.coop
END:VEVENT
END:VCALENDAR