BEGIN:VCALENDAR
VERSION:2.0
PRODID:-//Ateneu - ECPv6.15.20//NONSGML v1.0//EN
CALSCALE:GREGORIAN
METHOD:PUBLISH
X-WR-CALNAME:Ateneu
X-ORIGINAL-URL:https://ateneucoopbll.cat
X-WR-CALDESC:Esdeveniments per Ateneu
REFRESH-INTERVAL;VALUE=DURATION:PT1H
X-Robots-Tag:noindex
X-PUBLISHED-TTL:PT1H
BEGIN:VTIMEZONE
TZID:UTC
BEGIN:STANDARD
TZOFFSETFROM:+0000
TZOFFSETTO:+0000
TZNAME:UTC
DTSTART:20220101T000000
END:STANDARD
END:VTIMEZONE
BEGIN:VEVENT
DTSTART;TZID=UTC:20230929T110000
DTEND;TZID=UTC:20230929T130000
DTSTAMP:20260425T033149
CREATED:20230912T163756Z
LAST-MODIFIED:20231125T081207Z
UID:3004-1695985200-1695992400@ateneucoopbll.cat
SUMMARY:El règim de treball a la cooperativa
DESCRIPTION:Descripció: \nEn aquesta sessió pots resoldre tots els teus dubtes en relació al règim de treball i la seva gestió a la cooperativa. No esperis més\, avui és el dia. \nUs hi esperem! \nInscripcions.  \nData: 29 de setembre de 2023 \nHorari: de 11:00 a 13:00 \nLloc: En línia
URL:https://ateneucoopbll.cat/acte/el-regim-de-treball-a-la-cooperativa/
LOCATION:En línia
CATEGORIES:Sessió
ATTACH;FMTTYPE=image/png:https://ateneucoopbll.cat/wp-content/uploads/2023/10/ATENEU_48_CERCLEINNOVACIO_ItiFormESS_ECONOMIC_0929_baners_WEB.png
ORGANIZER;CN="Ateneu Cooperatiu del Baix Llobregat":MAILTO:ateneucooperatiu@elbaixllobregat.cat
END:VEVENT
END:VCALENDAR