BEGIN:VCALENDAR
VERSION:2.0
PRODID:-//Ateneu - ECPv6.15.20//NONSGML v1.0//EN
CALSCALE:GREGORIAN
METHOD:PUBLISH
X-WR-CALNAME:Ateneu
X-ORIGINAL-URL:https://ateneucoopbll.cat
X-WR-CALDESC:Esdeveniments per Ateneu
REFRESH-INTERVAL;VALUE=DURATION:PT1H
X-Robots-Tag:noindex
X-PUBLISHED-TTL:PT1H
BEGIN:VTIMEZONE
TZID:Europe/Madrid
BEGIN:DAYLIGHT
TZOFFSETFROM:+0100
TZOFFSETTO:+0200
TZNAME:CEST
DTSTART:20240331T010000
END:DAYLIGHT
BEGIN:STANDARD
TZOFFSETFROM:+0200
TZOFFSETTO:+0100
TZNAME:CET
DTSTART:20241027T010000
END:STANDARD
BEGIN:DAYLIGHT
TZOFFSETFROM:+0100
TZOFFSETTO:+0200
TZNAME:CEST
DTSTART:20250330T010000
END:DAYLIGHT
BEGIN:STANDARD
TZOFFSETFROM:+0200
TZOFFSETTO:+0100
TZNAME:CET
DTSTART:20251026T010000
END:STANDARD
BEGIN:DAYLIGHT
TZOFFSETFROM:+0100
TZOFFSETTO:+0200
TZNAME:CEST
DTSTART:20260329T010000
END:DAYLIGHT
BEGIN:STANDARD
TZOFFSETFROM:+0200
TZOFFSETTO:+0100
TZNAME:CET
DTSTART:20261025T010000
END:STANDARD
END:VTIMEZONE
BEGIN:VEVENT
DTSTART;TZID=Europe/Madrid:20250429T100000
DTEND;TZID=Europe/Madrid:20250429T130000
DTSTAMP:20260424T134732
CREATED:20250425T112112Z
LAST-MODIFIED:20250425T112112Z
UID:6120-1745920800-1745931600@ateneucoopbll.cat
SUMMARY:Eines de gestió: el Reglament de Règim Intern Formació
DESCRIPTION:Eines de gestió: el Reglament de Règim Intern\n\n\nUn taller sobre com s’estableixen les pautes de funcionament i les condicions en l’àmbit del treball a la vostra cooperativa. \nLa Federació de Cooperatives de Treball de Catalunya us proposa una nova formació virtual per a dissenyar del Reglament de Règim Intern de la vostra cooperativa\, l’eina per a fixar les normes i comportaments de les persones sòcies. \nInscriviu-vos en aquesta única sessió per resoldre dubtes i conèixer els elements que cal considerar en l’elaboració del Reglament de Règim Intern\, així com les eines i metodologies existents per a fer-ho. \nContinguts \n1.- Què és el Reglament de Règim Intern (RRI) \n2.- Marc normatiu: què pot incloure i que no pot incloure el RRI \n3.- Elaboració del RRI \n4.- Estratègies per la implementació del RRI \nCalendari \nDiumenge 29 d’abril de 2025 \nDe 10.00 a 13.00 hores \nFormat virtual \nMés informació: formacio@cooperativestreball.coop
URL:https://ateneucoopbll.cat/acte/eines-de-gestio-el-reglament-de-regim-intern-formacio/
CATEGORIES:Formacions
END:VEVENT
END:VCALENDAR