BEGIN:VCALENDAR
VERSION:2.0
PRODID:-//Ateneu - ECPv6.15.20//NONSGML v1.0//EN
CALSCALE:GREGORIAN
METHOD:PUBLISH
X-WR-CALNAME:Ateneu
X-ORIGINAL-URL:https://ateneucoopbll.cat
X-WR-CALDESC:Esdeveniments per Ateneu
REFRESH-INTERVAL;VALUE=DURATION:PT1H
X-Robots-Tag:noindex
X-PUBLISHED-TTL:PT1H
BEGIN:VTIMEZONE
TZID:UTC
BEGIN:STANDARD
TZOFFSETFROM:+0000
TZOFFSETTO:+0000
TZNAME:UTC
DTSTART:20210101T000000
END:STANDARD
END:VTIMEZONE
BEGIN:VEVENT
DTSTART;TZID=UTC:20220514T100000
DTEND;TZID=UTC:20220514T140000
DTSTAMP:20260425T143307
CREATED:20220314T110423Z
LAST-MODIFIED:20231125T082728Z
UID:2858-1652522400-1652536800@ateneucoopbll.cat
SUMMARY:Descobreix què pot aportar la Sociocràcia
DESCRIPTION:POTENCIA LA INTEL·LIGÈNCIA COL·LECTIVA I L’EMPODERAMENT A LA TEVA ORGANITZACIÓ\nT’agradaria que la teva organització fos més participativa?\nEstàs cansat/da de reunions esgotadores?\nDescobreix la Sociocràcia\, un sistema de governança que facilita la gestió d’equips i l’assoliment d’objectius\, alhora que millora la implicació i la cohesió de les organitzacions.\nEn aquest taller\, coneixeràs quins són els fonaments més importants d’aquest sistema així com consells i bones pràctiques per posar-lo en funcionament.\nNo es necessita experiència prèvia. \n\nCONTINGUT\n\nBreu introducció sobre la història de la sociocràcia\n4 principis bàsics (cercles\, doble enllaç\, elecció sense candidatura\, decisió per consentiment)\nExemples pràctics i dinàmiques\nEls 4 espais de les organitzacions saludables: cohesió\, indagació\, presa de decisions i celebració\nEl triangle d’efectivitat grupal: Propòsits\, Persones i Processos\n\nDia: dissabte 14 de maig \nHorari: de 10h a 14h \nLloc: Cooperativa El Roser (Camí del Llor\, 13. Sant Boi de Llobregat) \nPreu: 50 € \nInscripcions a través d’aquest formulari: formulari d’inscripció \nTens dubtes? Escriu-nos a formacio@elroser.coop 
URL:https://ateneucoopbll.cat/acte/descobreix-que-pot-aportar-la-sociocracia/
LOCATION:Cooperativa El Roser\, Camí del Llor 13\, Sant Boi de Llobregat\, Barcelona
ATTACH;FMTTYPE=image/jpeg:https://ateneucoopbll.cat/wp-content/uploads/2023/10/ATENEU_05_MaigCoop_bnr_WEB_14_Sociocracia.jpg
ORGANIZER;CN="Cooperativa El Roser":MAILTO:cooperativa@elroser.coop
END:VEVENT
END:VCALENDAR