BEGIN:VCALENDAR
VERSION:2.0
PRODID:-//Ateneu - ECPv6.15.20//NONSGML v1.0//EN
CALSCALE:GREGORIAN
METHOD:PUBLISH
X-WR-CALNAME:Ateneu
X-ORIGINAL-URL:https://ateneucoopbll.cat
X-WR-CALDESC:Esdeveniments per Ateneu
REFRESH-INTERVAL;VALUE=DURATION:PT1H
X-Robots-Tag:noindex
X-PUBLISHED-TTL:PT1H
BEGIN:VTIMEZONE
TZID:Europe/Madrid
BEGIN:DAYLIGHT
TZOFFSETFROM:+0100
TZOFFSETTO:+0200
TZNAME:CEST
DTSTART:20230326T010000
END:DAYLIGHT
BEGIN:STANDARD
TZOFFSETFROM:+0200
TZOFFSETTO:+0100
TZNAME:CET
DTSTART:20231029T010000
END:STANDARD
BEGIN:DAYLIGHT
TZOFFSETFROM:+0100
TZOFFSETTO:+0200
TZNAME:CEST
DTSTART:20240331T010000
END:DAYLIGHT
BEGIN:STANDARD
TZOFFSETFROM:+0200
TZOFFSETTO:+0100
TZNAME:CET
DTSTART:20241027T010000
END:STANDARD
BEGIN:DAYLIGHT
TZOFFSETFROM:+0100
TZOFFSETTO:+0200
TZNAME:CEST
DTSTART:20250330T010000
END:DAYLIGHT
BEGIN:STANDARD
TZOFFSETFROM:+0200
TZOFFSETTO:+0100
TZNAME:CET
DTSTART:20251026T010000
END:STANDARD
END:VTIMEZONE
BEGIN:VEVENT
DTSTART;TZID=Europe/Madrid:20240917T093000
DTEND;TZID=Europe/Madrid:20240917T113000
DTSTAMP:20260424T173231
CREATED:20240910T133142Z
LAST-MODIFIED:20240910T145526Z
UID:5253-1726565400-1726572600@ateneucoopbll.cat
SUMMARY:Comitè Rector Ateneu Cooperatiu del Baix Llobregat
DESCRIPTION:Descripció\nAssistents: Membres del Comitè Rector de les Entitats del Baix Llobregat \nOrdre del dia: \n– Situació actual dels indicadors.  Noves cooperatives creades i participants període 23-24 \n– Preparació de la documentació de la justificació 23-24 \n– Informació dels tràmits de sol·licitud de la nova subvenció de la XAC 24-27 \nData: 17 setembre \nLloc: Unió de Cooperadors – Ajuntament de Gavà \nHorari: 9:30 – 11:30
URL:https://ateneucoopbll.cat/acte/comite-rector-ateneu-cooperatiu/
LOCATION:Unió de Cooperadors – Ajuntament de Gavà\, Rambla Maria Casas\, 102 Gavà\, Gavà\, Gavà\, 08850\, Espanya
ATTACH;FMTTYPE=image/jpeg:https://ateneucoopbll.cat/wp-content/uploads/2024/09/74_CR_bnrs_WEB.jpg
ORGANIZER;CN="Ateneu Cooperatiu del Baix Llobregat":MAILTO:ateneucooperatiu@elbaixllobregat.cat
END:VEVENT
END:VCALENDAR