BEGIN:VCALENDAR
VERSION:2.0
PRODID:-//Ateneu - ECPv6.15.20//NONSGML v1.0//EN
CALSCALE:GREGORIAN
METHOD:PUBLISH
X-WR-CALNAME:Ateneu
X-ORIGINAL-URL:https://ateneucoopbll.cat
X-WR-CALDESC:Esdeveniments per Ateneu
REFRESH-INTERVAL;VALUE=DURATION:PT1H
X-Robots-Tag:noindex
X-PUBLISHED-TTL:PT1H
BEGIN:VTIMEZONE
TZID:Europe/Madrid
BEGIN:DAYLIGHT
TZOFFSETFROM:+0100
TZOFFSETTO:+0200
TZNAME:CEST
DTSTART:20240331T010000
END:DAYLIGHT
BEGIN:STANDARD
TZOFFSETFROM:+0200
TZOFFSETTO:+0100
TZNAME:CET
DTSTART:20241027T010000
END:STANDARD
BEGIN:DAYLIGHT
TZOFFSETFROM:+0100
TZOFFSETTO:+0200
TZNAME:CEST
DTSTART:20250330T010000
END:DAYLIGHT
BEGIN:STANDARD
TZOFFSETFROM:+0200
TZOFFSETTO:+0100
TZNAME:CET
DTSTART:20251026T010000
END:STANDARD
BEGIN:DAYLIGHT
TZOFFSETFROM:+0100
TZOFFSETTO:+0200
TZNAME:CEST
DTSTART:20260329T010000
END:DAYLIGHT
BEGIN:STANDARD
TZOFFSETFROM:+0200
TZOFFSETTO:+0100
TZNAME:CET
DTSTART:20261025T010000
END:STANDARD
END:VTIMEZONE
BEGIN:VEVENT
DTSTART;TZID=Europe/Madrid:20250410T100000
DTEND;TZID=Europe/Madrid:20250410T140000
DTSTAMP:20260424T134732
CREATED:20250404T082640Z
LAST-MODIFIED:20250404T082658Z
UID:5946-1744279200-1744293600@ateneucoopbll.cat
SUMMARY:Com licitar per entitats i organitzacions de l'ESS
DESCRIPTION:Com licitar per entitats i organitzacions de l’ESS\nEl pròxim 10 i 14 d’abril\, tindran lloc aquestes formacions que s’adrecen a aquelles persones amb responsabilitats a entitats i organitzacions de l’ESS. \nEn constar de 2 sessions\, els continguts es dividiran en: \n\nSessió virtual 1.\nSessió virtual 2.\n\nContinguts de la Sessió 1?\n\nEn què consisteixen les licitacions i quines tipologies de procediments i contractes hi ha?\nÉs un bon moment per licitar des de l’ESS?\nLes reserves de contractes i les mesures socials\nCom preparar-se per licitar\nCom es presenta una licitació\nPlecs de condicions administratives i tècniques\nSolvència tècnica i econòmica\nEL RELIC\nLa garantia i la facturació\n\n📅 Data: 10 d’abril⏰ Horari: 10:00 – 14:00 h🎯 Format: En línia\nContinguts de la Sessió 2?\n\nConceptes econòmics de les licitacions\nLes despeses directes i indirectes\nEl pressupost base de licitació\nEl valor estimat del contracte\nEls valors anormals\nLa fórmula ponderada del criteri de preu\nCom intercooperar en contractació pública\nLa integració de solvència per mitjans externs\nLes UTE\n\n📅 Data: 14 d’abril⏰ Horari: 10:00 – 14:00 h🎯 Format: En línia\nInscripcions\nhttps://serveis.ateneucoopbll.cat/program/formacio-virtual-en-licitacions-per-a-less
URL:https://ateneucoopbll.cat/acte/com-licitar-per-entitats-i-organitzacions-de-less/
CATEGORIES:Formacions
ATTACH;FMTTYPE=image/jpeg:https://ateneucoopbll.cat/wp-content/uploads/2025/04/11_SomEnergia120425_IGpost_1080x1350_A-2.jpg
END:VEVENT
END:VCALENDAR