BEGIN:VCALENDAR
VERSION:2.0
PRODID:-//Ateneu - ECPv6.15.20//NONSGML v1.0//EN
CALSCALE:GREGORIAN
METHOD:PUBLISH
X-WR-CALNAME:Ateneu
X-ORIGINAL-URL:https://ateneucoopbll.cat
X-WR-CALDESC:Esdeveniments per Ateneu
REFRESH-INTERVAL;VALUE=DURATION:PT1H
X-Robots-Tag:noindex
X-PUBLISHED-TTL:PT1H
BEGIN:VTIMEZONE
TZID:Europe/Madrid
BEGIN:DAYLIGHT
TZOFFSETFROM:+0100
TZOFFSETTO:+0200
TZNAME:CEST
DTSTART:20230326T010000
END:DAYLIGHT
BEGIN:STANDARD
TZOFFSETFROM:+0200
TZOFFSETTO:+0100
TZNAME:CET
DTSTART:20231029T010000
END:STANDARD
BEGIN:DAYLIGHT
TZOFFSETFROM:+0100
TZOFFSETTO:+0200
TZNAME:CEST
DTSTART:20240331T010000
END:DAYLIGHT
BEGIN:STANDARD
TZOFFSETFROM:+0200
TZOFFSETTO:+0100
TZNAME:CET
DTSTART:20241027T010000
END:STANDARD
BEGIN:DAYLIGHT
TZOFFSETFROM:+0100
TZOFFSETTO:+0200
TZNAME:CEST
DTSTART:20250330T010000
END:DAYLIGHT
BEGIN:STANDARD
TZOFFSETFROM:+0200
TZOFFSETTO:+0100
TZNAME:CET
DTSTART:20251026T010000
END:STANDARD
END:VTIMEZONE
BEGIN:VEVENT
DTSTART;TZID=Europe/Madrid:20240610T093000
DTEND;TZID=Europe/Madrid:20240610T113000
DTSTAMP:20260424T171838
CREATED:20240606T071247Z
LAST-MODIFIED:20240607T094227Z
UID:5085-1718011800-1718019000@ateneucoopbll.cat
SUMMARY:Cicle de consolidació de cooperatives - Comercialització per entitats d'ESS
DESCRIPTION:Cicle formatiu orientat a entitats de l’ESS per millorar la consolidació de les seves activitats. \nAquestes sessions serviran per a:\n\n\n\n\n\nEntendre la gestió econòmica i financera per la presa de decisions estratègiques.\nDesenvolupar habilitats per la comercialització ètica\nConèixer els principals aspectes clau per a una correcta presentació i gestió de subvencions\n\n\nSessió : Comercialització per entitats d’ESS\nAquesta sessió està adreçada a les empreses\, iniciatives i entitats de l’Economia Social i Solidària perquè tinguin més coneixements i informació per millorar el seu funcionament a través de la comercialització ètica dels seus productes o serveis\, facilitant eines de millora de la gestió i planificació comercial i de màrqueting. Es parlarà de: ○ La comercialització ètica ○ Proposta de valor i valor social ○ Estudi de mercat\, client diana\, producte i servei ○ Estratègia de màrqueting social. \n10 de juny de 2024 \n9:30 – 11:30 H \nEn línia \nL’enllaç a la sessió online s’enviarà als participants inscrits un dia abans de la formació. \nFORMADORA\nFacto Cooperativa SCCLP \nIncripcions.
URL:https://ateneucoopbll.cat/acte/cicle-de-consolidacio-de-cooperatives/
LOCATION:En línia
CATEGORIES:Formacions
ATTACH;FMTTYPE=image/png:https://ateneucoopbll.cat/wp-content/uploads/2024/06/ENCUENTRO-PAZIFICO-BARCELONA-3.png
ORGANIZER;CN="Ateneu Cooperatiu del Baix Llobregat":MAILTO:ateneucooperatiu@elbaixllobregat.cat
END:VEVENT
END:VCALENDAR