BEGIN:VCALENDAR
VERSION:2.0
PRODID:-//Ateneu - ECPv6.15.20//NONSGML v1.0//EN
CALSCALE:GREGORIAN
METHOD:PUBLISH
X-WR-CALNAME:Ateneu
X-ORIGINAL-URL:https://ateneucoopbll.cat
X-WR-CALDESC:Esdeveniments per Ateneu
REFRESH-INTERVAL;VALUE=DURATION:PT1H
X-Robots-Tag:noindex
X-PUBLISHED-TTL:PT1H
BEGIN:VTIMEZONE
TZID:Europe/Madrid
BEGIN:DAYLIGHT
TZOFFSETFROM:+0100
TZOFFSETTO:+0200
TZNAME:CEST
DTSTART:20230326T010000
END:DAYLIGHT
BEGIN:STANDARD
TZOFFSETFROM:+0200
TZOFFSETTO:+0100
TZNAME:CET
DTSTART:20231029T010000
END:STANDARD
BEGIN:DAYLIGHT
TZOFFSETFROM:+0100
TZOFFSETTO:+0200
TZNAME:CEST
DTSTART:20240331T010000
END:DAYLIGHT
BEGIN:STANDARD
TZOFFSETFROM:+0200
TZOFFSETTO:+0100
TZNAME:CET
DTSTART:20241027T010000
END:STANDARD
BEGIN:DAYLIGHT
TZOFFSETFROM:+0100
TZOFFSETTO:+0200
TZNAME:CEST
DTSTART:20250330T010000
END:DAYLIGHT
BEGIN:STANDARD
TZOFFSETFROM:+0200
TZOFFSETTO:+0100
TZNAME:CET
DTSTART:20251026T010000
END:STANDARD
END:VTIMEZONE
BEGIN:VEVENT
DTSTART;TZID=Europe/Madrid:20240627T100000
DTEND;TZID=Europe/Madrid:20240627T120000
DTSTAMP:20260424T172831
CREATED:20240606T073329Z
LAST-MODIFIED:20240607T094328Z
UID:5103-1719482400-1719489600@ateneucoopbll.cat
SUMMARY:Cicle de consolidació de cooperatives - Com ens presentem i gestionem subvencions?
DESCRIPTION:Cicle formatiu orientat a entitats de l’ESS per millorar la consolidació de les seves activitats.\nAquestes sessions serviran per a:\n\n\n\n\n\nEntendre la gestió econòmica i financera per la presa de decisions estratègiques.\nDesenvolupar habilitats per la comercialització ètica\nConèixer els principals aspectes clau per a una correcta presentació i gestió de subvencions\n\n\n\n\nCom ens presentem i gestionem subvencions?\nDurant la sessió parlarem dels principals punts a analitzar abans de presentar-nos a subvencions i farem un recorregut al llarg de tot el procés de la seva gestió: \n\n       Cerca de subvencions\n       Anàlisi dels punts clau\n       Capacitat justificativa\n       Gestió i justificació\n\n  \n27 de juny de 2024 \n10:00 – 12:00 H \nEn lìnia \nL’enllaç a la sessió online s’enviarà als participants inscrits un dia abans de la formació. \nFORMADORA\nFacto Cooperativa \nInscripcions. 
URL:https://ateneucoopbll.cat/acte/cicle-de-consolidacio-de-cooperatives-com-ens-presentem-i-gestionem-subvencions/
LOCATION:En línia
CATEGORIES:Formacions
ATTACH;FMTTYPE=image/png:https://ateneucoopbll.cat/wp-content/uploads/2024/06/ENCUENTRO-PAZIFICO-BARCELONA-3.png
END:VEVENT
END:VCALENDAR