BEGIN:VCALENDAR
VERSION:2.0
PRODID:-//Ateneu - ECPv6.15.20//NONSGML v1.0//EN
CALSCALE:GREGORIAN
METHOD:PUBLISH
X-WR-CALNAME:Ateneu
X-ORIGINAL-URL:https://ateneucoopbll.cat
X-WR-CALDESC:Esdeveniments per Ateneu
REFRESH-INTERVAL;VALUE=DURATION:PT1H
X-Robots-Tag:noindex
X-PUBLISHED-TTL:PT1H
BEGIN:VTIMEZONE
TZID:Europe/Madrid
BEGIN:DAYLIGHT
TZOFFSETFROM:+0100
TZOFFSETTO:+0200
TZNAME:CEST
DTSTART:20240331T010000
END:DAYLIGHT
BEGIN:STANDARD
TZOFFSETFROM:+0200
TZOFFSETTO:+0100
TZNAME:CET
DTSTART:20241027T010000
END:STANDARD
BEGIN:DAYLIGHT
TZOFFSETFROM:+0100
TZOFFSETTO:+0200
TZNAME:CEST
DTSTART:20250330T010000
END:DAYLIGHT
BEGIN:STANDARD
TZOFFSETFROM:+0200
TZOFFSETTO:+0100
TZNAME:CET
DTSTART:20251026T010000
END:STANDARD
BEGIN:DAYLIGHT
TZOFFSETFROM:+0100
TZOFFSETTO:+0200
TZNAME:CEST
DTSTART:20260329T010000
END:DAYLIGHT
BEGIN:STANDARD
TZOFFSETFROM:+0200
TZOFFSETTO:+0100
TZNAME:CET
DTSTART:20261025T010000
END:STANDARD
END:VTIMEZONE
BEGIN:VEVENT
DTSTART;TZID=Europe/Madrid:20250717T093000
DTEND;TZID=Europe/Madrid:20250717T113000
DTSTAMP:20260422T212540
CREATED:20250703T094600Z
LAST-MODIFIED:20250703T094600Z
UID:6566-1752744600-1752751800@ateneucoopbll.cat
SUMMARY:Cafè de la Federació: el paradigma TEAL
DESCRIPTION:Cafè de la Federació: el paradigma TEAL\nDijous 17 de juliol\, de 9.30 a 11.30 h · Sessió en línia\nLes organitzacions també evolucionen. I cada cop són més les que exploren formes alternatives de funcionar\, relacionar-se i créixer. En aquesta sessió\, a càrrec de Marina Revuelta\, psicòloga i facilitadora experta en transformació organitzacional i personal\, aprofundirem en el paradigma TEAL\, un model que concep les organitzacions com a sistemes vius\, amb capacitat d’autogestió\, propòsit compartit i espais per a la plenitud individual i col·lectiva. \nUna proposta per reflexionar i conversar conjuntament sobre com aquest enfocament pot inspirar processos de canvi reals\, sostenibles i adaptats a la realitat de cada entitat. \nContinguts de la sessió: \n\n\nEvolució dels paradigmes organitzacionals \n\n\nQuè és una organització TEAL? \n\n\nEls tres pilars: autogestió\, propòsit evolutiu i plenitud \n\n\nExperiències reals\, beneficis i reptes \n\n\nCom iniciar aquest camí dins la teva organització \n\n\nUna sessió per inspirar\, compartir i activar noves mirades.Activitat gratuïta. Cal inscripció prèvia. \nInscripcions \n  \n 
URL:https://ateneucoopbll.cat/acte/cafe-de-la-federacio-el-paradigma-teal/
END:VEVENT
END:VCALENDAR