BEGIN:VCALENDAR
VERSION:2.0
PRODID:-//Ateneu - ECPv6.15.20//NONSGML v1.0//EN
CALSCALE:GREGORIAN
METHOD:PUBLISH
X-WR-CALNAME:Ateneu
X-ORIGINAL-URL:https://ateneucoopbll.cat
X-WR-CALDESC:Esdeveniments per Ateneu
REFRESH-INTERVAL;VALUE=DURATION:PT1H
X-Robots-Tag:noindex
X-PUBLISHED-TTL:PT1H
BEGIN:VTIMEZONE
TZID:Europe/Madrid
BEGIN:DAYLIGHT
TZOFFSETFROM:+0100
TZOFFSETTO:+0200
TZNAME:CEST
DTSTART:20250330T010000
END:DAYLIGHT
BEGIN:STANDARD
TZOFFSETFROM:+0200
TZOFFSETTO:+0100
TZNAME:CET
DTSTART:20251026T010000
END:STANDARD
BEGIN:DAYLIGHT
TZOFFSETFROM:+0100
TZOFFSETTO:+0200
TZNAME:CEST
DTSTART:20260329T010000
END:DAYLIGHT
BEGIN:STANDARD
TZOFFSETFROM:+0200
TZOFFSETTO:+0100
TZNAME:CET
DTSTART:20261025T010000
END:STANDARD
BEGIN:DAYLIGHT
TZOFFSETFROM:+0100
TZOFFSETTO:+0200
TZNAME:CEST
DTSTART:20270328T010000
END:DAYLIGHT
BEGIN:STANDARD
TZOFFSETFROM:+0200
TZOFFSETTO:+0100
TZNAME:CET
DTSTART:20271031T010000
END:STANDARD
END:VTIMEZONE
BEGIN:VEVENT
DTSTART;TZID=Europe/Madrid:20260513T170000
DTEND;TZID=Europe/Madrid:20260513T170000
DTSTAMP:20260422T145731
CREATED:20260420T070953Z
LAST-MODIFIED:20260421T081307Z
UID:7469-1778691600-1778691600@ateneucoopbll.cat
SUMMARY:ArtísticaMENT: activitat sobre salut mental
DESCRIPTION:ArtísticaMENT: activitat sobre salut mental\n📅 Data: Dimecres\, 13 de maig de 2026🕔 Hora: A les 17.00 h📍 Lloc: Plaça davant de la seu de SaóPrat📌 Adreça: Avinguda del Canal\, 110 – El Prat de Llobregat \n📋 Organitza: SaóPrat \nS’hi realitzarà l’activitat “ArtísticaMENT”\, una proposta creativa vinculada a la salut mental. A més\, es presentarà el projecte “Ocell de foc”. \nL’acte té com a objectiu promoure el benestar emocional i la participació comunitària\, generant un espai obert i inclusiu per a la ciutadania. \nL’activitat és oberta a tothom i no requereix inscripció prèvia.
URL:https://ateneucoopbll.cat/acte/artisticament-activitat-sobre-salut-mental/
LOCATION:Associacio Sao Prat\, Avd. Canal\, 110\, El Prat de Llobregat\, Barcelona\, España
CATEGORIES:MaigCoop2026
END:VEVENT
END:VCALENDAR