BEGIN:VCALENDAR
VERSION:2.0
PRODID:-//Ateneu - ECPv6.15.20//NONSGML v1.0//EN
CALSCALE:GREGORIAN
METHOD:PUBLISH
X-WR-CALNAME:Ateneu
X-ORIGINAL-URL:https://ateneucoopbll.cat
X-WR-CALDESC:Esdeveniments per Ateneu
REFRESH-INTERVAL;VALUE=DURATION:PT1H
X-Robots-Tag:noindex
X-PUBLISHED-TTL:PT1H
BEGIN:VTIMEZONE
TZID:Europe/Madrid
BEGIN:DAYLIGHT
TZOFFSETFROM:+0100
TZOFFSETTO:+0200
TZNAME:CEST
DTSTART:20230326T010000
END:DAYLIGHT
BEGIN:STANDARD
TZOFFSETFROM:+0200
TZOFFSETTO:+0100
TZNAME:CET
DTSTART:20231029T010000
END:STANDARD
BEGIN:DAYLIGHT
TZOFFSETFROM:+0100
TZOFFSETTO:+0200
TZNAME:CEST
DTSTART:20240331T010000
END:DAYLIGHT
BEGIN:STANDARD
TZOFFSETFROM:+0200
TZOFFSETTO:+0100
TZNAME:CET
DTSTART:20241027T010000
END:STANDARD
BEGIN:DAYLIGHT
TZOFFSETFROM:+0100
TZOFFSETTO:+0200
TZNAME:CEST
DTSTART:20250330T010000
END:DAYLIGHT
BEGIN:STANDARD
TZOFFSETFROM:+0200
TZOFFSETTO:+0100
TZNAME:CET
DTSTART:20251026T010000
END:STANDARD
END:VTIMEZONE
BEGIN:VEVENT
DTSTART;TZID=Europe/Madrid:20240311T120000
DTEND;TZID=Europe/Madrid:20240311T120000
DTSTAMP:20260424T235736
CREATED:20240306T143011Z
LAST-MODIFIED:20240306T143011Z
UID:4527-1710158400-1710158400@ateneucoopbll.cat
SUMMARY:Arquitectura de proximitat: secció al programa de ràdio Planeta Prat al 91.6 FM
DESCRIPTION:Una secció sobre arquitectura per tothom\, per parlar de temes que poden interessar a la gent que no té relació amb l’arquitectura\, sobre tot entorn a l’habitatge. \nLa Rachola SCCL participa al programa Planeta Prat de El Prat Ràdio. Es tracta de píndoles informatives de entre 20 i 25 min conduïdes per la Isa Gonzalo. \n11 de març de 2024\, 12:00 h. \nLloc: El Prat Ràdio\, programa Planeta Prat\, al 91.6 FM i www.elprat.digital/radio/ \nDESCRIPCIÓ\nLa sostenibilitat està molt de moda\, però entenem que el significat d’aquesta paraula s’ha prostituït i sovint s’utilitza buit de contingut únicament per donar un rentat de cara utilitzada com adjectiu de qualsevol aspecte com per exemple: economia sostenible\, agricultura sostenible\, turisme sostenible\, habitatge sostenible\, etc. \nEn aquest programa desenvolupem qué vol dir fer arquitectura sostenible i com han de ser les ciutats sostenibles. \nInscripcions.
URL:https://ateneucoopbll.cat/acte/arquitectura-de-proximitat-seccio-al-programa-de-radio-planeta-prat-al-91-6-fm/
LOCATION:El Prat Ràdio\, Carrer Dr. Soler i Torrens\, 3\, 08820 El Prat de Llobregat\, Barcelona\, Barcelona\, Barcelona\, 08820\, Espanya
ATTACH;FMTTYPE=image/jpeg:https://ateneucoopbll.cat/wp-content/uploads/2024/03/ACBLl_65_ArqProximitat_1103_baners_WEB.jpg
END:VEVENT
END:VCALENDAR