BEGIN:VCALENDAR
VERSION:2.0
PRODID:-//Ateneu - ECPv6.15.20//NONSGML v1.0//EN
CALSCALE:GREGORIAN
METHOD:PUBLISH
X-WR-CALNAME:Ateneu
X-ORIGINAL-URL:https://ateneucoopbll.cat
X-WR-CALDESC:Esdeveniments per Ateneu
REFRESH-INTERVAL;VALUE=DURATION:PT1H
X-Robots-Tag:noindex
X-PUBLISHED-TTL:PT1H
BEGIN:VTIMEZONE
TZID:Europe/Madrid
BEGIN:DAYLIGHT
TZOFFSETFROM:+0100
TZOFFSETTO:+0200
TZNAME:CEST
DTSTART:20240331T010000
END:DAYLIGHT
BEGIN:STANDARD
TZOFFSETFROM:+0200
TZOFFSETTO:+0100
TZNAME:CET
DTSTART:20241027T010000
END:STANDARD
BEGIN:DAYLIGHT
TZOFFSETFROM:+0100
TZOFFSETTO:+0200
TZNAME:CEST
DTSTART:20250330T010000
END:DAYLIGHT
BEGIN:STANDARD
TZOFFSETFROM:+0200
TZOFFSETTO:+0100
TZNAME:CET
DTSTART:20251026T010000
END:STANDARD
BEGIN:DAYLIGHT
TZOFFSETFROM:+0100
TZOFFSETTO:+0200
TZNAME:CEST
DTSTART:20260329T010000
END:DAYLIGHT
BEGIN:STANDARD
TZOFFSETFROM:+0200
TZOFFSETTO:+0100
TZNAME:CET
DTSTART:20261025T010000
END:STANDARD
END:VTIMEZONE
BEGIN:VEVENT
DTSTART;TZID=Europe/Madrid:20250313T080000
DTEND;TZID=Europe/Madrid:20250313T170000
DTSTAMP:20260424T153055
CREATED:20250313T113618Z
LAST-MODIFIED:20250313T113618Z
UID:5638-1741852800-1741885200@ateneucoopbll.cat
SUMMARY:Aprèn a Créixer
DESCRIPTION:📅 Inscripcions obertes fins al 24 de març!\nLa Federació de Cooperatives de Treball de Catalunya impulsa la setena edició del programa “Aprèn a Créixer”\, una iniciativa dirigida a cooperatives que volen consolidar-se\, créixer i afrontar nous reptes estratègics. \nAquest programa ofereix un acompanyament especialitzat\, espais de reflexió i recursos pràctics per ajudar les cooperatives participants a madurar i redefinir els seus projectes\, promovent així un creixement sostenible i alineat amb els valors del cooperativisme. \n\nQuins són els objectius del programa?\n✅ Enfortir i consolidar les cooperatives mitjançant assessorament especialitzat.✅ Fomentar la reflexió estratègica sobre el creixement\, la maduració i l’adaptació dels projectes cooperatius.✅ Abordar els reptes específics del sector industrial cooperatiu\, promovent la intercooperació. \n\nItineraris disponibles\n🔹 Creixement i consolidació de la cooperativa \n\n📅 Durada: 3 mesos\n👥 Participants: 12 cooperatives en procés de reflexió sobre el seu creixement o reenfocament.\n🎯 Objectiu: Acompanyar les cooperatives en la seva maduració i consolidació mitjançant assessorament expert.\n\n🔹 Reptes del cooperativisme en l’àmbit industrial \n\n🎯 Objectiu: Crear un espai de reflexió col·lectiva per a cooperatives del sector industrial.\n👥 Participants: Entre 10 i 20 cooperatives interessades en afrontar els desafiaments del sector.\n\n\nActivitats destacades\n📌 Sessió de co-disseny per a cooperatives industrials📅 Data: 4 de març⏰ Horari: 15:00 – 17:00 h🎯 Objectiu: Dissenyar col·lectivament solucions als reptes del sector industrial cooperatiu\, compartint experiències i buscant estratègies innovadores. \n\nBeneficis per a les cooperatives participants\n✨ Acompanyament personalitzat amb experts en creixement i consolidació cooperativa.✨ Espais de reflexió i intercanvi amb altres cooperatives\, fomentant sinergies i intercooperació.✨ Eines i recursos per afrontar els reptes del sector industrial i optimitzar el creixement sostenible. \n\nProcés d’inscripció\n📅 Termini d’inscripció: Fins al 24 de març.💻 Com inscriure’s? Ompliu el formulari disponible a la web del programa.📌 Més informació i inscripcions aquí:👉 www.cooperativestreball.coop/acompanyem/aprenacreixer \nAquest programa és una oportunitat única per enfortir la teva cooperativa\, créixer de manera estratègica i adaptar-te als nous reptes del sector! 💡🤝
URL:https://ateneucoopbll.cat/acte/apren-a-creixer/
END:VEVENT
END:VCALENDAR