BEGIN:VCALENDAR
VERSION:2.0
PRODID:-//Ateneu - ECPv6.15.20//NONSGML v1.0//EN
CALSCALE:GREGORIAN
METHOD:PUBLISH
X-WR-CALNAME:Ateneu
X-ORIGINAL-URL:https://ateneucoopbll.cat
X-WR-CALDESC:Esdeveniments per Ateneu
REFRESH-INTERVAL;VALUE=DURATION:PT1H
X-Robots-Tag:noindex
X-PUBLISHED-TTL:PT1H
BEGIN:VTIMEZONE
TZID:Europe/Madrid
BEGIN:DAYLIGHT
TZOFFSETFROM:+0100
TZOFFSETTO:+0200
TZNAME:CEST
DTSTART:20250330T010000
END:DAYLIGHT
BEGIN:STANDARD
TZOFFSETFROM:+0200
TZOFFSETTO:+0100
TZNAME:CET
DTSTART:20251026T010000
END:STANDARD
BEGIN:DAYLIGHT
TZOFFSETFROM:+0100
TZOFFSETTO:+0200
TZNAME:CEST
DTSTART:20260329T010000
END:DAYLIGHT
BEGIN:STANDARD
TZOFFSETFROM:+0200
TZOFFSETTO:+0100
TZNAME:CET
DTSTART:20261025T010000
END:STANDARD
BEGIN:DAYLIGHT
TZOFFSETFROM:+0100
TZOFFSETTO:+0200
TZNAME:CEST
DTSTART:20270328T010000
END:DAYLIGHT
BEGIN:STANDARD
TZOFFSETFROM:+0200
TZOFFSETTO:+0100
TZNAME:CET
DTSTART:20271031T010000
END:STANDARD
END:VTIMEZONE
BEGIN:VEVENT
DTSTART;TZID=Europe/Madrid:20260508T170000
DTEND;TZID=Europe/Madrid:20260522T170000
DTSTAMP:20260422T133354
CREATED:20260417T092814Z
LAST-MODIFIED:20260421T081534Z
UID:7452-1778259600-1779469200@ateneucoopbll.cat
SUMMARY:Activitats al nou edifici cooperatiu de la COV amb les famílies
DESCRIPTION:Activitats al nou edifici cooperatiu de la COV amb les famílies\n📅 Dates: Divendres 8\, 15 i 22 de maig de 2026🕔 Hora: 17.00 h📍 Lloc: Pati de l’edifici COV – El Prat de Llobregat📌 Adreça: C. Jaume Codina\, 24-26 \n📋 Organitza: COV Cooperativa Obrera de Viviendas SCCL \nEn el marc de la vida comunitària del nou edifici cooperatiu de la COV\, s’impulsen diverses activitats adreçades a les famílies residents. \nLes trobades inclouran tres xerrades participatives on es treballaran aspectes clau del funcionament cooperatiu\, com l’assemblea\, l’elecció de representants d’escala i el reglament d’ús dels espais comuns. \nA més\, les sessions incorporaran una activitat de convivència amb la col·laboració de Comunitats Amables del Prat\, fomentant la cohesió i la participació entre el veïnat. \nParal·lelament\, també es durà a terme una activitat infantil sota el lema “Dibuixa el teu edifici”\, pensada per implicar els més petits en la vida comunitària. \nL’activitat vol reforçar els vincles entre les persones residents i consolidar el model cooperatiu com a eina de convivència i organització col·lectiva.
URL:https://ateneucoopbll.cat/acte/activitats-al-nou-edifici-cooperatiu-de-la-cov-amb-les-families/
LOCATION:Pati de l’edifici COV\, C.Jaume Codina 24-26\, El Prat de Llobrega\, Barcelona\, 08820\, Spain
CATEGORIES:MaigCoop2026
ORGANIZER;CN="COV":MAILTO:cov@cov.coop
END:VEVENT
END:VCALENDAR