BEGIN:VCALENDAR
VERSION:2.0
PRODID:-//Ateneu - ECPv6.15.20//NONSGML v1.0//EN
CALSCALE:GREGORIAN
METHOD:PUBLISH
X-WR-CALNAME:Ateneu
X-ORIGINAL-URL:https://ateneucoopbll.cat
X-WR-CALDESC:Esdeveniments per Ateneu
REFRESH-INTERVAL;VALUE=DURATION:PT1H
X-Robots-Tag:noindex
X-PUBLISHED-TTL:PT1H
BEGIN:VTIMEZONE
TZID:Europe/Madrid
BEGIN:DAYLIGHT
TZOFFSETFROM:+0100
TZOFFSETTO:+0200
TZNAME:CEST
DTSTART:20250330T010000
END:DAYLIGHT
BEGIN:STANDARD
TZOFFSETFROM:+0200
TZOFFSETTO:+0100
TZNAME:CET
DTSTART:20251026T010000
END:STANDARD
BEGIN:DAYLIGHT
TZOFFSETFROM:+0100
TZOFFSETTO:+0200
TZNAME:CEST
DTSTART:20260329T010000
END:DAYLIGHT
BEGIN:STANDARD
TZOFFSETFROM:+0200
TZOFFSETTO:+0100
TZNAME:CET
DTSTART:20261025T010000
END:STANDARD
BEGIN:DAYLIGHT
TZOFFSETFROM:+0100
TZOFFSETTO:+0200
TZNAME:CEST
DTSTART:20270328T010000
END:DAYLIGHT
BEGIN:STANDARD
TZOFFSETFROM:+0200
TZOFFSETTO:+0100
TZNAME:CET
DTSTART:20271031T010000
END:STANDARD
END:VTIMEZONE
BEGIN:VEVENT
DTSTART;TZID=Europe/Madrid:20260523T110000
DTEND;TZID=Europe/Madrid:20260523T130000
DTSTAMP:20260422T163311
CREATED:20260421T083134Z
LAST-MODIFIED:20260421T083149Z
UID:7506-1779534000-1779541200@ateneucoopbll.cat
SUMMARY:Activitat de ceràmica: Mà i Fang
DESCRIPTION:Activitat de ceràmica: Mà i Fang\n📅 Data: Dissabte\, 23 de maig de 2026📍 Lloc: Moss Estudi Artístic📌 Adreça: C/ Castella\, 77\, Local 2 – El Prat de Llobregat \n📋 Organitza: Moss Estudi Artístic SCCL \nEl taller “Mà i Fang” està adreçat a totes aquelles persones que vulguin apropar-se al món de la ceràmica d’una manera creativa\, vivencial i accessible. \nL’activitat proposa una experiència pràctica en què\, cada mitja hora\, s’oferirà una activitat o classe perquè les persones participants puguin crear una petita peça de ceràmica\, tocar el fang per primer cop o tornar-hi a connectar. \nL’objectiu és oferir un espai de descoberta i expressió artística a través del treball manual amb fang\, fomentant la creativitat i el contacte directe amb el procés ceràmic. \nL’activitat és presencial\, es durà a terme d’11.00 a 13.00 h i requereix inscripció prèvia (enviar correu electrònic). \nA més\, es regalaran les creacions fetes durant el taller\, adhesius i descomptes\, i també s’oferirà la possibilitat de coure les peces al forn de l’estudi per un cost simbòlic\, amb recollida posterior a l’espai.
URL:https://ateneucoopbll.cat/acte/activitat-de-ceramica-ma-i-fang/
LOCATION:MOSS Estudi Artistic\, C/ Castella\, 77\, Local 2\, El Prat de Llobregat\, Barcelona\, Barcelona\, 08820\, Spain
CATEGORIES:MaigCoop2026
ORGANIZER;CN="Moss Estudi Art%C3%ADstic SCCL":MAILTO:mossestudiartistic@gmail.com
END:VEVENT
END:VCALENDAR