BEGIN:VCALENDAR
VERSION:2.0
PRODID:-//Ateneu - ECPv6.15.20//NONSGML v1.0//EN
CALSCALE:GREGORIAN
METHOD:PUBLISH
X-WR-CALNAME:Ateneu
X-ORIGINAL-URL:https://ateneucoopbll.cat
X-WR-CALDESC:Esdeveniments per Ateneu
REFRESH-INTERVAL;VALUE=DURATION:PT1H
X-Robots-Tag:noindex
X-PUBLISHED-TTL:PT1H
BEGIN:VTIMEZONE
TZID:UTC
BEGIN:STANDARD
TZOFFSETFROM:+0000
TZOFFSETTO:+0000
TZNAME:UTC
DTSTART:20210101T000000
END:STANDARD
END:VTIMEZONE
BEGIN:VEVENT
DTSTART;TZID=UTC:20220505T100000
DTEND;TZID=UTC:20220505T120000
DTSTAMP:20260425T162000
CREATED:20220305T081406Z
LAST-MODIFIED:20231125T082728Z
UID:2857-1651744800-1651752000@ateneucoopbll.cat
SUMMARY:ACCELERADORA SOCIAL ESSC BAIX LLOBREGAT - Sessió 9
DESCRIPTION:Aquest programa vol recolzar a organitzacions en l’àmbit social o cooperatiu\, o projectes que vulguin apropar-se a aquest àmbit en fases de creixement i/o consolidació\, que estan buscant com créixer de manera sostenible i organitzada per assegurar la seva viabilitat en el futur. \nSessió 9 – Comunicació audiovisual i màrqueting del nostre projecte (3ª Part): En aquesta sessió us ensenyarem a treballar la comunicació audiovisual i el màrqueting per augmentar la projecció dels vostres projectes. \n  \nINSCRIPCIÓ
URL:https://ateneucoopbll.cat/acte/acceleradora-social-essc-baix-llobregat-sessio-9/
LOCATION:Activitat Virtual
ATTACH;FMTTYPE=image/jpeg:https://ateneucoopbll.cat/wp-content/uploads/2023/10/ATENEU_06_Acceleradora_WEB.jpg
END:VEVENT
END:VCALENDAR