BEGIN:VCALENDAR
VERSION:2.0
PRODID:-//Ateneu - ECPv6.15.20//NONSGML v1.0//EN
CALSCALE:GREGORIAN
METHOD:PUBLISH
X-WR-CALNAME:Ateneu
X-ORIGINAL-URL:https://ateneucoopbll.cat
X-WR-CALDESC:Esdeveniments per Ateneu
REFRESH-INTERVAL;VALUE=DURATION:PT1H
X-Robots-Tag:noindex
X-PUBLISHED-TTL:PT1H
BEGIN:VTIMEZONE
TZID:Europe/Madrid
BEGIN:DAYLIGHT
TZOFFSETFROM:+0100
TZOFFSETTO:+0200
TZNAME:CEST
DTSTART:20250330T010000
END:DAYLIGHT
BEGIN:STANDARD
TZOFFSETFROM:+0200
TZOFFSETTO:+0100
TZNAME:CET
DTSTART:20251026T010000
END:STANDARD
BEGIN:DAYLIGHT
TZOFFSETFROM:+0100
TZOFFSETTO:+0200
TZNAME:CEST
DTSTART:20260329T010000
END:DAYLIGHT
BEGIN:STANDARD
TZOFFSETFROM:+0200
TZOFFSETTO:+0100
TZNAME:CET
DTSTART:20261025T010000
END:STANDARD
BEGIN:DAYLIGHT
TZOFFSETFROM:+0100
TZOFFSETTO:+0200
TZNAME:CEST
DTSTART:20270328T010000
END:DAYLIGHT
BEGIN:STANDARD
TZOFFSETFROM:+0200
TZOFFSETTO:+0100
TZNAME:CET
DTSTART:20271031T010000
END:STANDARD
END:VTIMEZONE
BEGIN:VEVENT
DTSTART;TZID=Europe/Madrid:20260512T160000
DTEND;TZID=Europe/Madrid:20260512T160000
DTSTAMP:20260422T145858
CREATED:20260420T070522Z
LAST-MODIFIED:20260421T081328Z
UID:7466-1778601600-1778601600@ateneucoopbll.cat
SUMMARY:8 minuts per convèncer: Social Elevator Pitch El NIU
DESCRIPTION:8 minuts per convèncer: Social Elevator Pitch El NIU\n📅 Data: Dimarts\, 12 de maig de 2026🕓 Hora: A les 16.00 h📍 Lloc: Centre Cívic Palmira Domènech📌 Adreça: Carrer de Lo Gaiter del Llobregat\, 112 – El Prat de Llobregat \n📋 Organitza: Ajuntament del Prat de Llobregat \nEl Social Elevator Pitch El NIU és una sessió en què els projectes participants disposen de 8 minuts per presentar les seves iniciatives emprenedores amb impacte social\, ambiental i econòmic\, desenvolupades dins del programa NIU. \nAquest programa d’assessorament en emprenedoria social ha ajudat a transformar idees en projectes amb viabilitat tècnica i econòmica des del seu inici a l’octubre de 2025. \nEn finalitzar la sessió\, un jurat format per representants del sector econòmic i social del Prat de Llobregat escollirà el millor projecte participant. \nL’activitat és oberta al públic.
URL:https://ateneucoopbll.cat/acte/8-minuts-per-convencer-arriba-el-social-elevator-pitch-el-niu/
LOCATION:Centre Cívic Palmira Domènech\, Lo Gaiter del Llobregat 0112\, El Prat de Llobregat\, Barcelona\, 08820\, España
CATEGORIES:MaigCoop2026
END:VEVENT
END:VCALENDAR