BEGIN:VCALENDAR
VERSION:2.0
PRODID:-//Ateneu - ECPv6.15.20//NONSGML v1.0//EN
CALSCALE:GREGORIAN
METHOD:PUBLISH
X-WR-CALNAME:Ateneu
X-ORIGINAL-URL:https://ateneucoopbll.cat
X-WR-CALDESC:Esdeveniments per Ateneu
REFRESH-INTERVAL;VALUE=DURATION:PT1H
X-Robots-Tag:noindex
X-PUBLISHED-TTL:PT1H
BEGIN:VTIMEZONE
TZID:Europe/Madrid
BEGIN:DAYLIGHT
TZOFFSETFROM:+0100
TZOFFSETTO:+0200
TZNAME:CEST
DTSTART:20240331T010000
END:DAYLIGHT
BEGIN:STANDARD
TZOFFSETFROM:+0200
TZOFFSETTO:+0100
TZNAME:CET
DTSTART:20241027T010000
END:STANDARD
BEGIN:DAYLIGHT
TZOFFSETFROM:+0100
TZOFFSETTO:+0200
TZNAME:CEST
DTSTART:20250330T010000
END:DAYLIGHT
BEGIN:STANDARD
TZOFFSETFROM:+0200
TZOFFSETTO:+0100
TZNAME:CET
DTSTART:20251026T010000
END:STANDARD
BEGIN:DAYLIGHT
TZOFFSETFROM:+0100
TZOFFSETTO:+0200
TZNAME:CEST
DTSTART:20260329T010000
END:DAYLIGHT
BEGIN:STANDARD
TZOFFSETFROM:+0200
TZOFFSETTO:+0100
TZNAME:CET
DTSTART:20261025T010000
END:STANDARD
END:VTIMEZONE
BEGIN:VEVENT
DTSTART;TZID=Europe/Madrid:20251021T090000
DTEND;TZID=Europe/Madrid:20251021T110000
DTSTAMP:20260422T180102
CREATED:20251001T110707Z
LAST-MODIFIED:20251016T073451Z
UID:6858-1761037200-1761044400@ateneucoopbll.cat
SUMMARY:Formació per a prescriptors tècnics i tècnics municipals
DESCRIPTION:Formació per a prescriptors tècnics i tècnics municipals\nData: Dimarts 21 d’octubreHorari: De 9h a 11 hFormat: En línia \nDescripció:Sessió de formació inicial adreçada a tècnics/ques municipals i persones prescriptores tècniques interessades a aprofundir en les possibilitats que ofereixen les formes jurídiques cooperatives com a eina per impulsar projectes sostenibles i combatre la precarietat\, especialment en l’àmbit de les cures. \nDurant la formació s’abordaran temes com: \n\nLa cooperativa com a fórmula per combatre la precarietat laboral.\nEls elements essencials per emprendre: governança i economia.\nComparativa entre les diferents formes jurídiques aplicades a les cures.\n\nOrganitza: La QperativaImpulsa: Ateneu Cooperatiu del Baix LlobregatAmb el suport de: Generalitat de Catalunya – Departament d’Empresa i Treball \n👉 Activitat gratuïta amb inscripció prèvia \nInscriu-te aquí
URL:https://ateneucoopbll.cat/acte/6858/
CATEGORIES:Formacions
ATTACH;FMTTYPE=image/png:https://ateneucoopbll.cat/wp-content/uploads/2025/09/Noticies-web-BO-45.png
END:VEVENT
END:VCALENDAR