BEGIN:VCALENDAR
VERSION:2.0
PRODID:-//Ateneu - ECPv6.15.20//NONSGML v1.0//EN
CALSCALE:GREGORIAN
METHOD:PUBLISH
X-WR-CALNAME:Ateneu
X-ORIGINAL-URL:https://ateneucoopbll.cat
X-WR-CALDESC:Esdeveniments per Ateneu
REFRESH-INTERVAL;VALUE=DURATION:PT1H
X-Robots-Tag:noindex
X-PUBLISHED-TTL:PT1H
BEGIN:VTIMEZONE
TZID:Europe/Madrid
BEGIN:DAYLIGHT
TZOFFSETFROM:+0100
TZOFFSETTO:+0200
TZNAME:CEST
DTSTART:20250330T010000
END:DAYLIGHT
BEGIN:STANDARD
TZOFFSETFROM:+0200
TZOFFSETTO:+0100
TZNAME:CET
DTSTART:20251026T010000
END:STANDARD
BEGIN:DAYLIGHT
TZOFFSETFROM:+0100
TZOFFSETTO:+0200
TZNAME:CEST
DTSTART:20260329T010000
END:DAYLIGHT
BEGIN:STANDARD
TZOFFSETFROM:+0200
TZOFFSETTO:+0100
TZNAME:CET
DTSTART:20261025T010000
END:STANDARD
BEGIN:DAYLIGHT
TZOFFSETFROM:+0100
TZOFFSETTO:+0200
TZNAME:CEST
DTSTART:20270328T010000
END:DAYLIGHT
BEGIN:STANDARD
TZOFFSETFROM:+0200
TZOFFSETTO:+0100
TZNAME:CET
DTSTART:20271031T010000
END:STANDARD
END:VTIMEZONE
BEGIN:VEVENT
DTSTART;TZID=Europe/Madrid:20260422T180000
DTEND;TZID=Europe/Madrid:20260422T210000
DTSTAMP:20260422T133301
CREATED:20260421T085013Z
LAST-MODIFIED:20260421T085234Z
UID:7510-1776880800-1776891600@ateneucoopbll.cat
SUMMARY:2a Mostra de Comerços i Serveis de Vallirana
DESCRIPTION:2a Mostra de Comerços i Serveis de Vallirana\n📅 Data: Divendres\, 22 de maig de 2026📍 Lloc: Parc Central de Vallirana📌 Adreça: Parc Central – Vallirana \n📋 Organitza: Ajuntament de Vallirana – Promoció Econòmica \nLa 2a Mostra de Comerços i Serveis de Vallirana és un esdeveniment anual que té com a objectiu promocionar el comerç i els serveis locals del municipi. \nLa mostra reunirà comerços\, entitats i serveis de Vallirana en un espai obert al públic\, amb estands i propostes pensades per donar visibilitat al teixit comercial d’una manera festiva\, propera i dinamitzada. \nL’objectiu és afavorir la interacció directa entre els establiments participants i la ciutadania\, posant en valor l’activitat econòmica local i fomentant la participació del públic assistent. Durant la jornada també s’hi faran activitats\, música i altres propostes obertes al públic. \nLa mostra és presencial\, tindrà lloc al Parc Central de Vallirana\, en horari de 18.00 a 21.00 h aproximadament\, i requereix inscripció prèvia mitjançant formulari de participació.
URL:https://ateneucoopbll.cat/acte/2a-mostra-de-comercos-i-serveis-de-vallirana/
LOCATION:Parc Central\, Parc Central\, Vallirana\, Barcelona\, 08759\, Spain
CATEGORIES:MaigCoop2026
END:VEVENT
END:VCALENDAR