BEGIN:VCALENDAR
VERSION:2.0
PRODID:-//Ateneu - ECPv6.15.20//NONSGML v1.0//EN
CALSCALE:GREGORIAN
METHOD:PUBLISH
X-WR-CALNAME:Ateneu
X-ORIGINAL-URL:https://ateneucoopbll.cat
X-WR-CALDESC:Esdeveniments per Ateneu
REFRESH-INTERVAL;VALUE=DURATION:PT1H
X-Robots-Tag:noindex
X-PUBLISHED-TTL:PT1H
BEGIN:VTIMEZONE
TZID:Europe/Madrid
BEGIN:DAYLIGHT
TZOFFSETFROM:+0100
TZOFFSETTO:+0200
TZNAME:CEST
DTSTART:20240331T010000
END:DAYLIGHT
BEGIN:STANDARD
TZOFFSETFROM:+0200
TZOFFSETTO:+0100
TZNAME:CET
DTSTART:20241027T010000
END:STANDARD
BEGIN:DAYLIGHT
TZOFFSETFROM:+0100
TZOFFSETTO:+0200
TZNAME:CEST
DTSTART:20250330T010000
END:DAYLIGHT
BEGIN:STANDARD
TZOFFSETFROM:+0200
TZOFFSETTO:+0100
TZNAME:CET
DTSTART:20251026T010000
END:STANDARD
BEGIN:DAYLIGHT
TZOFFSETFROM:+0100
TZOFFSETTO:+0200
TZNAME:CEST
DTSTART:20260329T010000
END:DAYLIGHT
BEGIN:STANDARD
TZOFFSETFROM:+0200
TZOFFSETTO:+0100
TZNAME:CET
DTSTART:20261025T010000
END:STANDARD
END:VTIMEZONE
BEGIN:VEVENT
DTSTART;TZID=Europe/Madrid:20250508T170000
DTEND;TZID=Europe/Madrid:20250508T203000
DTSTAMP:20260424T122058
CREATED:20250508T082021Z
LAST-MODIFIED:20250508T082021Z
UID:6136-1746723600-1746736200@ateneucoopbll.cat
SUMMARY:1ª sessió del cicle formatiu Comunicació ètica i transformadora
DESCRIPTION:1ª sessió del cicle formatiu Comunicació ètica i transformadora\nEl dijous 8 de maig a les 17 h a la Comunalitat Benviure hi tindrà lloc una formació gratuïta impartida per L’Enxarxada\, cooperativa de comunicació ètica\, sobre comunicació ètica i transformadora. \nLa formació està oberta a totes aquelles persones del territori\, que vulguin assolir coneixements de comunicació ètica\, sostenible i transformadora\, persones individuals o que formin part d’entitats de l’economia social\, grups comunitaris o associacions locals. No calen estudis previs de comunicació per accedir a aquesta formació. Us animem a participar-hi. \nDetalls de l’activitat\nData: 8 de maig \nHorari: 17 h – 20.30 h \nLloc: CC Delta\, Sant Cosme \nEnllaç: https://docs.google.com/forms/d/e/1FAIpQLSf1Shjevk9gxJfLub2xL1NZViSSeI5qmnk9d3Ka-CSmScDYUQ/viewform?fbclid=PAZXh0bgNhZW0CMTEAAaciJPaxQjcgfnLrV1O5VFl4_rL-LibxZV4nH-7zGRoug0AHZZF3CwZRDTso_Q_aem_82pLsFe4i8TtUuH6qF9b8Q
URL:https://ateneucoopbll.cat/acte/1a-sessio-del-cicle-formatiu-comunicacio-etica-i-transformadora/
CATEGORIES:Formacions
ATTACH;FMTTYPE=image/jpeg:https://ateneucoopbll.cat/wp-content/uploads/2025/05/13_MaigCoop25_bnrAP_080525_CCDelta_WEB.jpg
END:VEVENT
END:VCALENDAR